BEGIN:VCALENDAR
VERSION:2.0
PRODID:-//Klub 180 BPM - ECPv6.15.20//NONSGML v1.0//EN
CALSCALE:GREGORIAN
METHOD:PUBLISH
X-ORIGINAL-URL:https://klub180.dk
X-WR-CALDESC:Begivenheder for Klub 180 BPM
REFRESH-INTERVAL;VALUE=DURATION:PT1H
X-Robots-Tag:noindex
X-PUBLISHED-TTL:PT1H
BEGIN:VTIMEZONE
TZID:Europe/Berlin
BEGIN:DAYLIGHT
TZOFFSETFROM:+0100
TZOFFSETTO:+0200
TZNAME:CEST
DTSTART:20240331T010000
END:DAYLIGHT
BEGIN:STANDARD
TZOFFSETFROM:+0200
TZOFFSETTO:+0100
TZNAME:CET
DTSTART:20241027T010000
END:STANDARD
BEGIN:DAYLIGHT
TZOFFSETFROM:+0100
TZOFFSETTO:+0200
TZNAME:CEST
DTSTART:20250330T010000
END:DAYLIGHT
BEGIN:STANDARD
TZOFFSETFROM:+0200
TZOFFSETTO:+0100
TZNAME:CET
DTSTART:20251026T010000
END:STANDARD
BEGIN:DAYLIGHT
TZOFFSETFROM:+0100
TZOFFSETTO:+0200
TZNAME:CEST
DTSTART:20260329T010000
END:DAYLIGHT
BEGIN:STANDARD
TZOFFSETFROM:+0200
TZOFFSETTO:+0100
TZNAME:CET
DTSTART:20261025T010000
END:STANDARD
END:VTIMEZONE
BEGIN:VEVENT
DTSTART;TZID=Europe/Berlin:20251102T110000
DTEND;TZID=Europe/Berlin:20251102T110000
DTSTAMP:20260420T001229
CREATED:20250901T103026Z
LAST-MODIFIED:20250901T103236Z
UID:3424-1762081200-1762081200@klub180.dk
SUMMARY:Søndagssocialen
DESCRIPTION:En rolig løbetur\, hvor vi finder tempo og rute\, der passer de fremmødte. Vi mødes og starter fra Brotoften kl. 11.00.
URL:https://klub180.dk/begivenhed/soendagssocialen-9/
LOCATION:Brotoften parkeringsplads\, Brotoften 6\, Randers\, 8940\, Denmark
CATEGORIES:Træning
ORGANIZER;CN="Klub 180":MAILTO:mail@klub180.dk
END:VEVENT
BEGIN:VEVENT
DTSTART;TZID=Europe/Berlin:20251109T110000
DTEND;TZID=Europe/Berlin:20251109T110000
DTSTAMP:20260420T001229
CREATED:20250901T132922Z
LAST-MODIFIED:20250901T140746Z
UID:3426-1762686000-1762686000@klub180.dk
SUMMARY:Søndagssocialen
DESCRIPTION:En rolig løbetur\, hvor vi finder tempo og rute\, der passer de fremmødte. Vi mødes og starter fra Brotoften kl. 11.00.
URL:https://klub180.dk/begivenhed/soendagssocialen-10/
LOCATION:Brotoften parkeringsplads\, Brotoften 6\, Randers\, 8940\, Denmark
CATEGORIES:Træning
ORGANIZER;CN="Klub 180":MAILTO:mail@klub180.dk
END:VEVENT
BEGIN:VEVENT
DTSTART;TZID=Europe/Berlin:20251116T110000
DTEND;TZID=Europe/Berlin:20251116T110000
DTSTAMP:20260420T001229
CREATED:20250901T133029Z
LAST-MODIFIED:20250901T140757Z
UID:3428-1763290800-1763290800@klub180.dk
SUMMARY:Søndagssocialen
DESCRIPTION:En rolig løbetur\, hvor vi finder tempo og rute\, der passer de fremmødte. Vi mødes og starter fra Brotoften kl. 11.00.
URL:https://klub180.dk/begivenhed/soendagssocialen-11/
LOCATION:Brotoften parkeringsplads\, Brotoften 6\, Randers\, 8940\, Denmark
CATEGORIES:Træning
ORGANIZER;CN="Klub 180":MAILTO:mail@klub180.dk
END:VEVENT
BEGIN:VEVENT
DTSTART;TZID=Europe/Berlin:20251123T110000
DTEND;TZID=Europe/Berlin:20251123T110000
DTSTAMP:20260420T001229
CREATED:20250901T133115Z
LAST-MODIFIED:20250901T133558Z
UID:3430-1763895600-1763895600@klub180.dk
SUMMARY:Søndagssocialen
DESCRIPTION:En rolig løbetur\, hvor vi finder tempo og rute\, der passer de fremmødte. Vi mødes og starter fra Brotoften kl. 11.00.
URL:https://klub180.dk/begivenhed/soendagssocialen-12/
LOCATION:Brotoften parkeringsplads\, Brotoften 6\, Randers\, 8940\, Denmark
CATEGORIES:Træning
ORGANIZER;CN="Klub 180":MAILTO:mail@klub180.dk
END:VEVENT
BEGIN:VEVENT
DTSTART;TZID=Europe/Berlin:20251129T090000
DTEND;TZID=Europe/Berlin:20251129T100000
DTSTAMP:20260420T001229
CREATED:20251117T075854Z
LAST-MODIFIED:20251117T075942Z
UID:3802-1764406800-1764410400@klub180.dk
SUMMARY:Parkrun
DESCRIPTION:Vi tager til det lokale parkrun\, kom frisk! 💪 \nHusk at oprette en bruger på parkrun.dk og få en stregkode.
URL:https://klub180.dk/begivenhed/parkrun/
LOCATION:Myretuen\, Gl. Fælled Vej 1\, Randers NØ\, 8930\, Denmark
CATEGORIES:Motionsløb
END:VEVENT
BEGIN:VEVENT
DTSTART;TZID=Europe/Berlin:20251130T110000
DTEND;TZID=Europe/Berlin:20251130T110000
DTSTAMP:20260420T001229
CREATED:20250901T140857Z
LAST-MODIFIED:20250901T140909Z
UID:3450-1764500400-1764500400@klub180.dk
SUMMARY:Søndagssocialen
DESCRIPTION:En rolig løbetur\, hvor vi finder tempo og rute\, der passer de fremmødte. Vi mødes og starter fra Brotoften kl. 11.00.
URL:https://klub180.dk/begivenhed/soendagssocialen-13/
LOCATION:Brotoften parkeringsplads\, Brotoften 6\, Randers\, 8940\, Denmark
CATEGORIES:Træning
ORGANIZER;CN="Klub 180":MAILTO:mail@klub180.dk
END:VEVENT
END:VCALENDAR